BEGIN:VCALENDAR
VERSION:2.0
PRODID:-//Champions Club Texas - ECPv6.15.18//NONSGML v1.0//EN
CALSCALE:GREGORIAN
METHOD:PUBLISH
X-WR-CALNAME:Champions Club Texas
X-ORIGINAL-URL:https://championsclubtexas.com
X-WR-CALDESC:Events for Champions Club Texas
REFRESH-INTERVAL;VALUE=DURATION:PT1H
X-Robots-Tag:noindex
X-PUBLISHED-TTL:PT1H
BEGIN:VTIMEZONE
TZID:America/New_York
BEGIN:DAYLIGHT
TZOFFSETFROM:-0500
TZOFFSETTO:-0400
TZNAME:EDT
DTSTART:20230312T070000
END:DAYLIGHT
BEGIN:STANDARD
TZOFFSETFROM:-0400
TZOFFSETTO:-0500
TZNAME:EST
DTSTART:20231105T060000
END:STANDARD
BEGIN:DAYLIGHT
TZOFFSETFROM:-0500
TZOFFSETTO:-0400
TZNAME:EDT
DTSTART:20240310T070000
END:DAYLIGHT
BEGIN:STANDARD
TZOFFSETFROM:-0400
TZOFFSETTO:-0500
TZNAME:EST
DTSTART:20241103T060000
END:STANDARD
BEGIN:DAYLIGHT
TZOFFSETFROM:-0500
TZOFFSETTO:-0400
TZNAME:EDT
DTSTART:20250309T070000
END:DAYLIGHT
BEGIN:STANDARD
TZOFFSETFROM:-0400
TZOFFSETTO:-0500
TZNAME:EST
DTSTART:20251102T060000
END:STANDARD
END:VTIMEZONE
BEGIN:VEVENT
DTSTART;TZID=America/New_York:20240905T120000
DTEND;TZID=America/New_York:20240905T120000
DTSTAMP:20260421T110245
CREATED:20240917T021000Z
LAST-MODIFIED:20240917T021000Z
UID:10000008-1725537600-1725537600@championsclubtexas.com
SUMMARY:Midday $5K GTD
DESCRIPTION:Daily Tournament
URL:https://championsclubtexas.com/event/midday-5k-gtd-4/
CATEGORIES:Tournament
END:VEVENT
BEGIN:VEVENT
DTSTART;TZID=America/New_York:20240905T183000
DTEND;TZID=America/New_York:20240905T183000
DTSTAMP:20260421T110245
CREATED:20240917T021000Z
LAST-MODIFIED:20240917T021000Z
UID:10000009-1725561000-1725561000@championsclubtexas.com
SUMMARY:Chess Night
DESCRIPTION:Daily Tournament
URL:https://championsclubtexas.com/event/chess-night/
CATEGORIES:Promo
END:VEVENT
BEGIN:VEVENT
DTSTART;TZID=America/New_York:20240905T190000
DTEND;TZID=America/New_York:20240905T190000
DTSTAMP:20260421T110245
CREATED:20240917T021001Z
LAST-MODIFIED:20240917T021001Z
UID:10000010-1725562800-1725562800@championsclubtexas.com
SUMMARY:Thursday Night PLO $15K GTD
DESCRIPTION:Daily Tournament
URL:https://championsclubtexas.com/event/thursday-night-plo-15k-gtd/
CATEGORIES:Tournament
END:VEVENT
END:VCALENDAR