BEGIN:VCALENDAR
VERSION:2.0
PRODID:-//Champions Club Texas - ECPv6.15.18//NONSGML v1.0//EN
CALSCALE:GREGORIAN
METHOD:PUBLISH
X-WR-CALNAME:Champions Club Texas
X-ORIGINAL-URL:https://championsclubtexas.com
X-WR-CALDESC:Events for Champions Club Texas
REFRESH-INTERVAL;VALUE=DURATION:PT1H
X-Robots-Tag:noindex
X-PUBLISHED-TTL:PT1H
BEGIN:VTIMEZONE
TZID:America/New_York
BEGIN:DAYLIGHT
TZOFFSETFROM:-0500
TZOFFSETTO:-0400
TZNAME:EDT
DTSTART:20230312T070000
END:DAYLIGHT
BEGIN:STANDARD
TZOFFSETFROM:-0400
TZOFFSETTO:-0500
TZNAME:EST
DTSTART:20231105T060000
END:STANDARD
BEGIN:DAYLIGHT
TZOFFSETFROM:-0500
TZOFFSETTO:-0400
TZNAME:EDT
DTSTART:20240310T070000
END:DAYLIGHT
BEGIN:STANDARD
TZOFFSETFROM:-0400
TZOFFSETTO:-0500
TZNAME:EST
DTSTART:20241103T060000
END:STANDARD
BEGIN:DAYLIGHT
TZOFFSETFROM:-0500
TZOFFSETTO:-0400
TZNAME:EDT
DTSTART:20250309T070000
END:DAYLIGHT
BEGIN:STANDARD
TZOFFSETFROM:-0400
TZOFFSETTO:-0500
TZNAME:EST
DTSTART:20251102T060000
END:STANDARD
END:VTIMEZONE
BEGIN:VEVENT
DTSTART;TZID=America/New_York:20241017T100000
DTEND;TZID=America/New_York:20241017T100000
DTSTAMP:20260423T220628
CREATED:20241002T180306Z
LAST-MODIFIED:20241002T180306Z
UID:10000090-1729159200-1729159200@championsclubtexas.com
SUMMARY:Morning Turbo Super Satellite
DESCRIPTION:Fall Poker Open
URL:https://championsclubtexas.com/event/morning-turbo-super-satellite/
CATEGORIES:Tournament
ATTACH;FMTTYPE=image/jpeg:https://championsclubtexas.com/wp-content/uploads/2024/10/FPO_Promo_Social-1.jpg
END:VEVENT
BEGIN:VEVENT
DTSTART;TZID=America/New_York:20241017T120000
DTEND;TZID=America/New_York:20241017T120000
DTSTAMP:20260423T220628
CREATED:20241002T180304Z
LAST-MODIFIED:20241017T153743Z
UID:10000087-1729166400-1729166400@championsclubtexas.com
SUMMARY:Event 2A: Mystery Bounty
DESCRIPTION:Fall Poker Open
URL:https://championsclubtexas.com/event/event-2a-mystery-bounty/
CATEGORIES:Tournament
ATTACH;FMTTYPE=image/jpeg:https://championsclubtexas.com/wp-content/uploads/2024/10/FPO-Mystery-Bounty-Social-scaled-gg5P61.tmp_.jpg
END:VEVENT
BEGIN:VEVENT
DTSTART;TZID=America/New_York:20241017T170000
DTEND;TZID=America/New_York:20241017T170000
DTSTAMP:20260423T220628
CREATED:20241002T180305Z
LAST-MODIFIED:20241017T153750Z
UID:10000088-1729184400-1729184400@championsclubtexas.com
SUMMARY:Event 2B: Mystery Bounty
DESCRIPTION:Fall Poker Open
URL:https://championsclubtexas.com/event/event-2b-mystery-bounty/
CATEGORIES:Tournament
ATTACH;FMTTYPE=image/jpeg:https://championsclubtexas.com/wp-content/uploads/2024/10/FPO-Mystery-Bounty-Social-scaled-gg5P61.tmp_.jpg
END:VEVENT
BEGIN:VEVENT
DTSTART;TZID=America/New_York:20241017T190000
DTEND;TZID=America/New_York:20241017T190000
DTSTAMP:20260423T220628
CREATED:20241002T180305Z
LAST-MODIFIED:20241002T180305Z
UID:10000089-1729191600-1729191600@championsclubtexas.com
SUMMARY:Event 3: Turbo PLO Bounty
DESCRIPTION:Fall Poker Open
URL:https://championsclubtexas.com/event/event-3-turbo-plo-bounty/
CATEGORIES:Tournament
ATTACH;FMTTYPE=image/jpeg:https://championsclubtexas.com/wp-content/uploads/2024/10/FPO_Promo_Social-1.jpg
END:VEVENT
BEGIN:VEVENT
DTSTART;TZID=America/New_York:20241017T220000
DTEND;TZID=America/New_York:20241017T220000
DTSTAMP:20260423T220628
CREATED:20241002T180307Z
LAST-MODIFIED:20241017T153801Z
UID:10000091-1729202400-1729202400@championsclubtexas.com
SUMMARY:Turbo Super Satellite to Main Event
DESCRIPTION:Fall Poker Open
URL:https://championsclubtexas.com/event/turbo-super-satellite-to-main-event-2/
CATEGORIES:Tournament
ATTACH;FMTTYPE=image/jpeg:https://championsclubtexas.com/wp-content/uploads/2024/10/FPO-Turbo-Super-Satellite-Social-scaled-XpFUtT.tmp_.jpg
END:VEVENT
END:VCALENDAR