BEGIN:VCALENDAR
VERSION:2.0
PRODID:-//Champions Club Texas - ECPv6.15.18//NONSGML v1.0//EN
CALSCALE:GREGORIAN
METHOD:PUBLISH
X-ORIGINAL-URL:https://championsclubtexas.com
X-WR-CALDESC:Events for Champions Club Texas
REFRESH-INTERVAL;VALUE=DURATION:PT1H
X-Robots-Tag:noindex
X-PUBLISHED-TTL:PT1H
BEGIN:VTIMEZONE
TZID:America/New_York
BEGIN:DAYLIGHT
TZOFFSETFROM:-0500
TZOFFSETTO:-0400
TZNAME:EDT
DTSTART:20230312T070000
END:DAYLIGHT
BEGIN:STANDARD
TZOFFSETFROM:-0400
TZOFFSETTO:-0500
TZNAME:EST
DTSTART:20231105T060000
END:STANDARD
BEGIN:DAYLIGHT
TZOFFSETFROM:-0500
TZOFFSETTO:-0400
TZNAME:EDT
DTSTART:20240310T070000
END:DAYLIGHT
BEGIN:STANDARD
TZOFFSETFROM:-0400
TZOFFSETTO:-0500
TZNAME:EST
DTSTART:20241103T060000
END:STANDARD
BEGIN:DAYLIGHT
TZOFFSETFROM:-0500
TZOFFSETTO:-0400
TZNAME:EDT
DTSTART:20250309T070000
END:DAYLIGHT
BEGIN:STANDARD
TZOFFSETFROM:-0400
TZOFFSETTO:-0500
TZNAME:EST
DTSTART:20251102T060000
END:STANDARD
END:VTIMEZONE
BEGIN:VEVENT
DTSTART;TZID=America/New_York:20241018T100000
DTEND;TZID=America/New_York:20241018T100000
DTSTAMP:20260421T075506
CREATED:20241002T180406Z
LAST-MODIFIED:20241002T180406Z
UID:10000094-1729245600-1729245600@championsclubtexas.com
SUMMARY:Morning Turbo Super Satellite
DESCRIPTION:Fall Poker Open
URL:https://championsclubtexas.com/event/morning-turbo-super-satellite-2/
CATEGORIES:Tournament
ATTACH;FMTTYPE=image/jpeg:https://championsclubtexas.com/wp-content/uploads/2024/10/FPO_Promo_Social-1.jpg
END:VEVENT
BEGIN:VEVENT
DTSTART;TZID=America/New_York:20241018T120000
DTEND;TZID=America/New_York:20241018T120000
DTSTAMP:20260421T075507
CREATED:20241002T180404Z
LAST-MODIFIED:20241017T153603Z
UID:10000092-1729252800-1729252800@championsclubtexas.com
SUMMARY:Event 2C: Mystery Bounty
DESCRIPTION:Fall Poker Open
URL:https://championsclubtexas.com/event/event-2c-mystery-bounty/
CATEGORIES:Tournament
ATTACH;FMTTYPE=image/jpeg:https://championsclubtexas.com/wp-content/uploads/2024/10/FPO-Mystery-Bounty-Social-scaled-gg5P61.tmp_.jpg
END:VEVENT
BEGIN:VEVENT
DTSTART;TZID=America/New_York:20241018T170000
DTEND;TZID=America/New_York:20241018T170000
DTSTAMP:20260421T075507
CREATED:20241002T180405Z
LAST-MODIFIED:20241017T153613Z
UID:10000093-1729270800-1729270800@championsclubtexas.com
SUMMARY:Event 2D: Mystery Bounty
DESCRIPTION:Fall Poker Open
URL:https://championsclubtexas.com/event/event-2d-mystery-bounty/
CATEGORIES:Tournament
ATTACH;FMTTYPE=image/jpeg:https://championsclubtexas.com/wp-content/uploads/2024/10/FPO-Mystery-Bounty-Social-scaled-gg5P61.tmp_.jpg
END:VEVENT
BEGIN:VEVENT
DTSTART;TZID=America/New_York:20241018T220000
DTEND;TZID=America/New_York:20241018T220000
DTSTAMP:20260421T075507
CREATED:20241002T180407Z
LAST-MODIFIED:20241017T153622Z
UID:10000095-1729288800-1729288800@championsclubtexas.com
SUMMARY:Turbo Super Satellite to Main Event
DESCRIPTION:Fall Poker Open
URL:https://championsclubtexas.com/event/turbo-super-satellite-to-main-event-3/
CATEGORIES:Tournament
ATTACH;FMTTYPE=image/jpeg:https://championsclubtexas.com/wp-content/uploads/2024/10/FPO-Turbo-Super-Satellite-Social-scaled-XpFUtT.tmp_.jpg
END:VEVENT
END:VCALENDAR