BEGIN:VCALENDAR
VERSION:2.0
PRODID:-//Champions Club Texas - ECPv6.15.18//NONSGML v1.0//EN
CALSCALE:GREGORIAN
METHOD:PUBLISH
X-WR-CALNAME:Champions Club Texas
X-ORIGINAL-URL:https://championsclubtexas.com
X-WR-CALDESC:Events for Champions Club Texas
REFRESH-INTERVAL;VALUE=DURATION:PT1H
X-Robots-Tag:noindex
X-PUBLISHED-TTL:PT1H
BEGIN:VTIMEZONE
TZID:America/Chicago
BEGIN:DAYLIGHT
TZOFFSETFROM:-0600
TZOFFSETTO:-0500
TZNAME:CDT
DTSTART:20230312T080000
END:DAYLIGHT
BEGIN:STANDARD
TZOFFSETFROM:-0500
TZOFFSETTO:-0600
TZNAME:CST
DTSTART:20231105T070000
END:STANDARD
BEGIN:DAYLIGHT
TZOFFSETFROM:-0600
TZOFFSETTO:-0500
TZNAME:CDT
DTSTART:20240310T080000
END:DAYLIGHT
BEGIN:STANDARD
TZOFFSETFROM:-0500
TZOFFSETTO:-0600
TZNAME:CST
DTSTART:20241103T070000
END:STANDARD
BEGIN:DAYLIGHT
TZOFFSETFROM:-0600
TZOFFSETTO:-0500
TZNAME:CDT
DTSTART:20250309T080000
END:DAYLIGHT
BEGIN:STANDARD
TZOFFSETFROM:-0500
TZOFFSETTO:-0600
TZNAME:CST
DTSTART:20251102T070000
END:STANDARD
END:VTIMEZONE
BEGIN:VTIMEZONE
TZID:America/New_York
BEGIN:DAYLIGHT
TZOFFSETFROM:-0500
TZOFFSETTO:-0400
TZNAME:EDT
DTSTART:20230312T070000
END:DAYLIGHT
BEGIN:STANDARD
TZOFFSETFROM:-0400
TZOFFSETTO:-0500
TZNAME:EST
DTSTART:20231105T060000
END:STANDARD
BEGIN:DAYLIGHT
TZOFFSETFROM:-0500
TZOFFSETTO:-0400
TZNAME:EDT
DTSTART:20240310T070000
END:DAYLIGHT
BEGIN:STANDARD
TZOFFSETFROM:-0400
TZOFFSETTO:-0500
TZNAME:EST
DTSTART:20241103T060000
END:STANDARD
BEGIN:DAYLIGHT
TZOFFSETFROM:-0500
TZOFFSETTO:-0400
TZNAME:EDT
DTSTART:20250309T070000
END:DAYLIGHT
BEGIN:STANDARD
TZOFFSETFROM:-0400
TZOFFSETTO:-0500
TZNAME:EST
DTSTART:20251102T060000
END:STANDARD
END:VTIMEZONE
BEGIN:VEVENT
DTSTART;TZID=America/Chicago:20241024T100000
DTEND;TZID=America/Chicago:20241024T100000
DTSTAMP:20260421T093041
CREATED:20241002T180907Z
LAST-MODIFIED:20241017T153344Z
UID:10000121-1729764000-1729764000@championsclubtexas.com
SUMMARY:Turbo Super Satellite to Main Event
DESCRIPTION:Fall Poker Open
URL:https://championsclubtexas.com/event/turbo-super-satellite-to-main-event-9/
CATEGORIES:Tournament
ATTACH;FMTTYPE=image/jpeg:https://championsclubtexas.com/wp-content/uploads/2024/10/FPO-Turbo-Super-Satellite-Social-scaled-XpFUtT.tmp_.jpg
END:VEVENT
BEGIN:VEVENT
DTSTART;TZID=America/New_York:20241024T120000
DTEND;TZID=America/New_York:20241024T120000
DTSTAMP:20260421T093041
CREATED:20241002T180905Z
LAST-MODIFIED:20241002T180905Z
UID:10000118-1729771200-1729771200@championsclubtexas.com
SUMMARY:Event 9B: Main Event
DESCRIPTION:Fall Poker Open
URL:https://championsclubtexas.com/event/event-9b-main-event/
CATEGORIES:Tournament
ATTACH;FMTTYPE=image/jpeg:https://championsclubtexas.com/wp-content/uploads/2024/10/FPO_Promo_Social-1.jpg
END:VEVENT
BEGIN:VEVENT
DTSTART;TZID=America/New_York:20241024T150000
DTEND;TZID=America/New_York:20241024T150000
DTSTAMP:20260421T093041
CREATED:20241002T180905Z
LAST-MODIFIED:20241002T180905Z
UID:10000119-1729782000-1729782000@championsclubtexas.com
SUMMARY:NLH Milestone Satellite for Main
DESCRIPTION:Fall Poker Open
URL:https://championsclubtexas.com/event/nlh-milestone-satellite-for-main-4/
CATEGORIES:Tournament
ATTACH;FMTTYPE=image/jpeg:https://championsclubtexas.com/wp-content/uploads/2024/10/FPO_Promo_Social-1.jpg
END:VEVENT
BEGIN:VEVENT
DTSTART;TZID=America/New_York:20241024T170000
DTEND;TZID=America/New_York:20241024T170000
DTSTAMP:20260421T093041
CREATED:20241002T180904Z
LAST-MODIFIED:20241002T180904Z
UID:10000117-1729789200-1729789200@championsclubtexas.com
SUMMARY:Event 11: PLO
DESCRIPTION:Fall Poker Open
URL:https://championsclubtexas.com/event/event-11-plo/
CATEGORIES:Tournament
ATTACH;FMTTYPE=image/jpeg:https://championsclubtexas.com/wp-content/uploads/2024/10/FPO_Promo_Social-1.jpg
END:VEVENT
BEGIN:VEVENT
DTSTART;TZID=America/New_York:20241024T190000
DTEND;TZID=America/New_York:20241024T190000
DTSTAMP:20260421T093041
CREATED:20241002T180906Z
LAST-MODIFIED:20241002T180906Z
UID:10000120-1729796400-1729796400@championsclubtexas.com
SUMMARY:NLH Milestone Satellite for Main
DESCRIPTION:Fall Poker Open
URL:https://championsclubtexas.com/event/nlh-milestone-satellite-for-main-5/
CATEGORIES:Tournament
ATTACH;FMTTYPE=image/jpeg:https://championsclubtexas.com/wp-content/uploads/2024/10/FPO_Promo_Social-1.jpg
END:VEVENT
BEGIN:VEVENT
DTSTART;TZID=America/Chicago:20241024T220000
DTEND;TZID=America/Chicago:20241024T220000
DTSTAMP:20260421T093041
CREATED:20241002T181105Z
LAST-MODIFIED:20241017T153344Z
UID:10000122-1729807200-1729807200@championsclubtexas.com
SUMMARY:Turbo Super Satellite to Main Event
DESCRIPTION:Fall Poker Open
URL:https://championsclubtexas.com/event/turbo-super-satellite-to-main-event-10/
CATEGORIES:Tournament
ATTACH;FMTTYPE=image/jpeg:https://championsclubtexas.com/wp-content/uploads/2024/10/FPO-Turbo-Super-Satellite-Social-scaled-XpFUtT.tmp_.jpg
END:VEVENT
END:VCALENDAR