BEGIN:VCALENDAR
VERSION:2.0
PRODID:-//Champions Club Texas - ECPv6.15.18//NONSGML v1.0//EN
CALSCALE:GREGORIAN
METHOD:PUBLISH
X-ORIGINAL-URL:https://championsclubtexas.com
X-WR-CALDESC:Events for Champions Club Texas
REFRESH-INTERVAL;VALUE=DURATION:PT1H
X-Robots-Tag:noindex
X-PUBLISHED-TTL:PT1H
BEGIN:VTIMEZONE
TZID:America/Chicago
BEGIN:DAYLIGHT
TZOFFSETFROM:-0600
TZOFFSETTO:-0500
TZNAME:CDT
DTSTART:20230312T080000
END:DAYLIGHT
BEGIN:STANDARD
TZOFFSETFROM:-0500
TZOFFSETTO:-0600
TZNAME:CST
DTSTART:20231105T070000
END:STANDARD
BEGIN:DAYLIGHT
TZOFFSETFROM:-0600
TZOFFSETTO:-0500
TZNAME:CDT
DTSTART:20240310T080000
END:DAYLIGHT
BEGIN:STANDARD
TZOFFSETFROM:-0500
TZOFFSETTO:-0600
TZNAME:CST
DTSTART:20241103T070000
END:STANDARD
BEGIN:DAYLIGHT
TZOFFSETFROM:-0600
TZOFFSETTO:-0500
TZNAME:CDT
DTSTART:20250309T080000
END:DAYLIGHT
BEGIN:STANDARD
TZOFFSETFROM:-0500
TZOFFSETTO:-0600
TZNAME:CST
DTSTART:20251102T070000
END:STANDARD
END:VTIMEZONE
BEGIN:VTIMEZONE
TZID:America/New_York
BEGIN:DAYLIGHT
TZOFFSETFROM:-0500
TZOFFSETTO:-0400
TZNAME:EDT
DTSTART:20230312T070000
END:DAYLIGHT
BEGIN:STANDARD
TZOFFSETFROM:-0400
TZOFFSETTO:-0500
TZNAME:EST
DTSTART:20231105T060000
END:STANDARD
BEGIN:DAYLIGHT
TZOFFSETFROM:-0500
TZOFFSETTO:-0400
TZNAME:EDT
DTSTART:20240310T070000
END:DAYLIGHT
BEGIN:STANDARD
TZOFFSETFROM:-0400
TZOFFSETTO:-0500
TZNAME:EST
DTSTART:20241103T060000
END:STANDARD
BEGIN:DAYLIGHT
TZOFFSETFROM:-0500
TZOFFSETTO:-0400
TZNAME:EDT
DTSTART:20250309T070000
END:DAYLIGHT
BEGIN:STANDARD
TZOFFSETFROM:-0400
TZOFFSETTO:-0500
TZNAME:EST
DTSTART:20251102T060000
END:STANDARD
END:VTIMEZONE
BEGIN:VEVENT
DTSTART;TZID=America/Chicago:20241025T100000
DTEND;TZID=America/Chicago:20241025T100000
DTSTAMP:20260421T093131
CREATED:20241002T181306Z
LAST-MODIFIED:20241017T153345Z
UID:10000127-1729850400-1729850400@championsclubtexas.com
SUMMARY:Turbo Super Satellite to Main Event
DESCRIPTION:Fall Poker Open
URL:https://championsclubtexas.com/event/turbo-super-satellite-to-main-event-11/
CATEGORIES:Tournament
ATTACH;FMTTYPE=image/jpeg:https://championsclubtexas.com/wp-content/uploads/2024/10/FPO-Turbo-Super-Satellite-Social-scaled-XpFUtT.tmp_.jpg
END:VEVENT
BEGIN:VEVENT
DTSTART;TZID=America/New_York:20241025T120000
DTEND;TZID=America/New_York:20241025T120000
DTSTAMP:20260421T093131
CREATED:20241002T181106Z
LAST-MODIFIED:20241002T181106Z
UID:10000123-1729857600-1729857600@championsclubtexas.com
SUMMARY:Event 9C: Main Event
DESCRIPTION:Fall Poker Open
URL:https://championsclubtexas.com/event/event-9c-main-event/
CATEGORIES:Tournament
ATTACH;FMTTYPE=image/jpeg:https://championsclubtexas.com/wp-content/uploads/2024/10/FPO_Promo_Social-1.jpg
END:VEVENT
BEGIN:VEVENT
DTSTART;TZID=America/New_York:20241025T150000
DTEND;TZID=America/New_York:20241025T150000
DTSTAMP:20260421T093131
CREATED:20241002T181108Z
LAST-MODIFIED:20241002T181108Z
UID:10000125-1729868400-1729868400@championsclubtexas.com
SUMMARY:NLH Milestone Satellite for Main
DESCRIPTION:Fall Poker Open
URL:https://championsclubtexas.com/event/nlh-milestone-satellite-for-main-6/
CATEGORIES:Tournament
ATTACH;FMTTYPE=image/jpeg:https://championsclubtexas.com/wp-content/uploads/2024/10/FPO_Promo_Social-1.jpg
END:VEVENT
BEGIN:VEVENT
DTSTART;TZID=America/New_York:20241025T180000
DTEND;TZID=America/New_York:20241025T180000
DTSTAMP:20260421T093131
CREATED:20241002T181108Z
LAST-MODIFIED:20241002T181108Z
UID:10000126-1729879200-1729879200@championsclubtexas.com
SUMMARY:NLH Milestone Satellite for Main
DESCRIPTION:Fall Poker Open
URL:https://championsclubtexas.com/event/nlh-milestone-satellite-for-main-7/
CATEGORIES:Tournament
ATTACH;FMTTYPE=image/jpeg:https://championsclubtexas.com/wp-content/uploads/2024/10/FPO_Promo_Social-1.jpg
END:VEVENT
BEGIN:VEVENT
DTSTART;TZID=America/New_York:20241025T210000
DTEND;TZID=America/New_York:20241025T210000
DTSTAMP:20260421T093131
CREATED:20241002T181107Z
LAST-MODIFIED:20241002T181107Z
UID:10000124-1729890000-1729890000@championsclubtexas.com
SUMMARY:Event 9D: Main Event (Turbo)
DESCRIPTION:Fall Poker Open
URL:https://championsclubtexas.com/event/event-9d-main-event-turbo/
CATEGORIES:Tournament
ATTACH;FMTTYPE=image/jpeg:https://championsclubtexas.com/wp-content/uploads/2024/10/FPO_Promo_Social-1.jpg
END:VEVENT
BEGIN:VEVENT
DTSTART;TZID=America/Chicago:20241025T220000
DTEND;TZID=America/Chicago:20241025T220000
DTSTAMP:20260421T093131
CREATED:20241002T181307Z
LAST-MODIFIED:20241017T153345Z
UID:10000128-1729893600-1729893600@championsclubtexas.com
SUMMARY:Turbo Super Satellite to Main Event
DESCRIPTION:Fall Poker Open
URL:https://championsclubtexas.com/event/turbo-super-satellite-to-main-event-12/
CATEGORIES:Tournament
ATTACH;FMTTYPE=image/jpeg:https://championsclubtexas.com/wp-content/uploads/2024/10/FPO-Turbo-Super-Satellite-Social-scaled-XpFUtT.tmp_.jpg
END:VEVENT
END:VCALENDAR