BEGIN:VCALENDAR
VERSION:2.0
PRODID:-//Champions Club Texas - ECPv6.15.18//NONSGML v1.0//EN
CALSCALE:GREGORIAN
METHOD:PUBLISH
X-ORIGINAL-URL:https://championsclubtexas.com
X-WR-CALDESC:Events for Champions Club Texas
REFRESH-INTERVAL;VALUE=DURATION:PT1H
X-Robots-Tag:noindex
X-PUBLISHED-TTL:PT1H
BEGIN:VTIMEZONE
TZID:America/New_York
BEGIN:DAYLIGHT
TZOFFSETFROM:-0500
TZOFFSETTO:-0400
TZNAME:EDT
DTSTART:20230312T070000
END:DAYLIGHT
BEGIN:STANDARD
TZOFFSETFROM:-0400
TZOFFSETTO:-0500
TZNAME:EST
DTSTART:20231105T060000
END:STANDARD
BEGIN:DAYLIGHT
TZOFFSETFROM:-0500
TZOFFSETTO:-0400
TZNAME:EDT
DTSTART:20240310T070000
END:DAYLIGHT
BEGIN:STANDARD
TZOFFSETFROM:-0400
TZOFFSETTO:-0500
TZNAME:EST
DTSTART:20241103T060000
END:STANDARD
BEGIN:DAYLIGHT
TZOFFSETFROM:-0500
TZOFFSETTO:-0400
TZNAME:EDT
DTSTART:20250309T070000
END:DAYLIGHT
BEGIN:STANDARD
TZOFFSETFROM:-0400
TZOFFSETTO:-0500
TZNAME:EST
DTSTART:20251102T060000
END:STANDARD
END:VTIMEZONE
BEGIN:VEVENT
DTSTART;TZID=America/New_York:20241027T080000
DTEND;TZID=America/New_York:20241027T080000
DTSTAMP:20260421T061704
CREATED:20241002T181510Z
LAST-MODIFIED:20241002T181510Z
UID:10000135-1730016000-1730016000@championsclubtexas.com
SUMMARY:Event 9G: Main Event (Turbo)
DESCRIPTION:Fall Poker Open
URL:https://championsclubtexas.com/event/event-9g-main-event-turbo/
CATEGORIES:Tournament
ATTACH;FMTTYPE=image/jpeg:https://championsclubtexas.com/wp-content/uploads/2024/10/FPO_Promo_Social-1.jpg
END:VEVENT
BEGIN:VEVENT
DTSTART;TZID=America/New_York:20241027T150000
DTEND;TZID=America/New_York:20241027T150000
DTSTAMP:20260421T061704
CREATED:20241002T181509Z
LAST-MODIFIED:20241002T181509Z
UID:10000134-1730041200-1730041200@championsclubtexas.com
SUMMARY:Event 9: Main Event Day 2
DESCRIPTION:Fall Poker Open
URL:https://championsclubtexas.com/event/event-9-main-event-day-2/
CATEGORIES:Tournament
ATTACH;FMTTYPE=image/jpeg:https://championsclubtexas.com/wp-content/uploads/2024/10/FPO_Promo_Social-1.jpg
END:VEVENT
BEGIN:VEVENT
DTSTART;TZID=America/New_York:20241027T170000
DTEND;TZID=America/New_York:20241027T170000
DTSTAMP:20260421T061704
CREATED:20241002T181507Z
LAST-MODIFIED:20241002T181507Z
UID:10000132-1730048400-1730048400@championsclubtexas.com
SUMMARY:Event 12: Turbo NLH
DESCRIPTION:Fall Poker Open
URL:https://championsclubtexas.com/event/event-12-turbo-nlh/
CATEGORIES:Tournament
ATTACH;FMTTYPE=image/jpeg:https://championsclubtexas.com/wp-content/uploads/2024/10/FPO_Promo_Social-1.jpg
END:VEVENT
BEGIN:VEVENT
DTSTART;TZID=America/New_York:20241027T190000
DTEND;TZID=America/New_York:20241027T190000
DTSTAMP:20260421T061704
CREATED:20241002T181508Z
LAST-MODIFIED:20241002T181508Z
UID:10000133-1730055600-1730055600@championsclubtexas.com
SUMMARY:Event 13: Women's NLH
DESCRIPTION:Fall Poker Open
URL:https://championsclubtexas.com/event/event-13-womens-nlh/
CATEGORIES:Tournament
ATTACH;FMTTYPE=image/jpeg:https://championsclubtexas.com/wp-content/uploads/2024/10/FPO_Promo_Social-1.jpg
END:VEVENT
END:VCALENDAR