BEGIN:VCALENDAR
VERSION:2.0
PRODID:-//Champions Club Texas - ECPv6.15.18//NONSGML v1.0//EN
CALSCALE:GREGORIAN
METHOD:PUBLISH
X-ORIGINAL-URL:https://championsclubtexas.com
X-WR-CALDESC:Events for Champions Club Texas
REFRESH-INTERVAL;VALUE=DURATION:PT1H
X-Robots-Tag:noindex
X-PUBLISHED-TTL:PT1H
BEGIN:VTIMEZONE
TZID:America/New_York
BEGIN:DAYLIGHT
TZOFFSETFROM:-0500
TZOFFSETTO:-0400
TZNAME:EDT
DTSTART:20230312T070000
END:DAYLIGHT
BEGIN:STANDARD
TZOFFSETFROM:-0400
TZOFFSETTO:-0500
TZNAME:EST
DTSTART:20231105T060000
END:STANDARD
BEGIN:DAYLIGHT
TZOFFSETFROM:-0500
TZOFFSETTO:-0400
TZNAME:EDT
DTSTART:20240310T070000
END:DAYLIGHT
BEGIN:STANDARD
TZOFFSETFROM:-0400
TZOFFSETTO:-0500
TZNAME:EST
DTSTART:20241103T060000
END:STANDARD
BEGIN:DAYLIGHT
TZOFFSETFROM:-0500
TZOFFSETTO:-0400
TZNAME:EDT
DTSTART:20250309T070000
END:DAYLIGHT
BEGIN:STANDARD
TZOFFSETFROM:-0400
TZOFFSETTO:-0500
TZNAME:EST
DTSTART:20251102T060000
END:STANDARD
END:VTIMEZONE
BEGIN:VEVENT
DTSTART;TZID=America/New_York:20241028T120000
DTEND;TZID=America/New_York:20241028T120000
DTSTAMP:20260419T112649
CREATED:20241002T181511Z
LAST-MODIFIED:20241002T181511Z
UID:10000136-1730116800-1730116800@championsclubtexas.com
SUMMARY:Event 14: Seniors NLH
DESCRIPTION:Fall Poker Open
URL:https://championsclubtexas.com/event/event-14-seniors-nlh/
CATEGORIES:Tournament
ATTACH;FMTTYPE=image/jpeg:https://championsclubtexas.com/wp-content/uploads/2024/10/FPO_Promo_Social-1.jpg
END:VEVENT
BEGIN:VEVENT
DTSTART;TZID=America/New_York:20241028T160000
DTEND;TZID=America/New_York:20241028T160000
DTSTAMP:20260419T112649
CREATED:20241002T181708Z
LAST-MODIFIED:20241002T181708Z
UID:10000137-1730131200-1730131200@championsclubtexas.com
SUMMARY:Event 15: Big Bet mix
DESCRIPTION:Fall Poker Open
URL:https://championsclubtexas.com/event/event-15-big-bet-mix/
CATEGORIES:Tournament
ATTACH;FMTTYPE=image/jpeg:https://championsclubtexas.com/wp-content/uploads/2024/10/FPO_Promo_Social-1.jpg
END:VEVENT
BEGIN:VEVENT
DTSTART;TZID=America/New_York:20241028T160000
DTEND;TZID=America/New_York:20241028T160000
DTSTAMP:20260419T112649
CREATED:20241002T181709Z
LAST-MODIFIED:20241002T181709Z
UID:10000138-1730131200-1730131200@championsclubtexas.com
SUMMARY:Event 9: Main Event Final Table
DESCRIPTION:Fall Poker Open
URL:https://championsclubtexas.com/event/event-9-main-event-final-table/
CATEGORIES:Tournament
ATTACH;FMTTYPE=image/jpeg:https://championsclubtexas.com/wp-content/uploads/2024/10/FPO_Promo_Social-1.jpg
END:VEVENT
END:VCALENDAR