BEGIN:VCALENDAR
VERSION:2.0
PRODID:-//Champions Club Texas - ECPv6.15.18//NONSGML v1.0//EN
CALSCALE:GREGORIAN
METHOD:PUBLISH
X-WR-CALNAME:Champions Club Texas
X-ORIGINAL-URL:https://championsclubtexas.com
X-WR-CALDESC:Events for Champions Club Texas
REFRESH-INTERVAL;VALUE=DURATION:PT1H
X-Robots-Tag:noindex
X-PUBLISHED-TTL:PT1H
BEGIN:VTIMEZONE
TZID:America/Chicago
BEGIN:DAYLIGHT
TZOFFSETFROM:-0600
TZOFFSETTO:-0500
TZNAME:CDT
DTSTART:20230312T080000
END:DAYLIGHT
BEGIN:STANDARD
TZOFFSETFROM:-0500
TZOFFSETTO:-0600
TZNAME:CST
DTSTART:20231105T070000
END:STANDARD
BEGIN:DAYLIGHT
TZOFFSETFROM:-0600
TZOFFSETTO:-0500
TZNAME:CDT
DTSTART:20240310T080000
END:DAYLIGHT
BEGIN:STANDARD
TZOFFSETFROM:-0500
TZOFFSETTO:-0600
TZNAME:CST
DTSTART:20241103T070000
END:STANDARD
BEGIN:DAYLIGHT
TZOFFSETFROM:-0600
TZOFFSETTO:-0500
TZNAME:CDT
DTSTART:20250309T080000
END:DAYLIGHT
BEGIN:STANDARD
TZOFFSETFROM:-0500
TZOFFSETTO:-0600
TZNAME:CST
DTSTART:20251102T070000
END:STANDARD
END:VTIMEZONE
BEGIN:VEVENT
DTSTART;TZID=America/Chicago:20241121T110000
DTEND;TZID=America/Chicago:20241121T110000
DTSTAMP:20260421T032550
CREATED:20241104T183923Z
LAST-MODIFIED:20241104T183923Z
UID:10000189-1732186800-1732186800@championsclubtexas.com
SUMMARY:Turbo Super Satellite to Main Event
DESCRIPTION:PGT Texas PLO Roundup
URL:https://championsclubtexas.com/event/turbo-super-satellite-to-main-event-19/
CATEGORIES:Tournament
ATTACH;FMTTYPE=image/jpeg:https://championsclubtexas.com/wp-content/uploads/2024/11/image0.jpeg
END:VEVENT
BEGIN:VEVENT
DTSTART;TZID=America/Chicago:20241121T120000
DTEND;TZID=America/Chicago:20241121T120000
DTSTAMP:20260421T032550
CREATED:20241104T184034Z
LAST-MODIFIED:20241104T184034Z
UID:10000190-1732190400-1732190400@championsclubtexas.com
SUMMARY:Event 5A: PLO Main Event
DESCRIPTION:PGT Texas PLO Roundup
URL:https://championsclubtexas.com/event/event-5a-plo-main-event/
CATEGORIES:Tournament
ATTACH;FMTTYPE=image/jpeg:https://championsclubtexas.com/wp-content/uploads/2024/11/image0.jpeg
END:VEVENT
BEGIN:VEVENT
DTSTART;TZID=America/Chicago:20241121T130000
DTEND;TZID=America/Chicago:20241121T130000
DTSTAMP:20260421T032550
CREATED:20241104T184035Z
LAST-MODIFIED:20241104T184035Z
UID:10000191-1732194000-1732194000@championsclubtexas.com
SUMMARY:Event 4: $1\,100 PLO Final Table
DESCRIPTION:PGT Texas PLO Roundup
URL:https://championsclubtexas.com/event/event-4-1100-plo-final-table/
CATEGORIES:Tournament
ATTACH;FMTTYPE=image/jpeg:https://championsclubtexas.com/wp-content/uploads/2024/11/image0.jpeg
END:VEVENT
BEGIN:VEVENT
DTSTART;TZID=America/Chicago:20241121T160000
DTEND;TZID=America/Chicago:20241121T160000
DTSTAMP:20260421T032550
CREATED:20241104T184035Z
LAST-MODIFIED:20241104T184035Z
UID:10000192-1732204800-1732204800@championsclubtexas.com
SUMMARY:Milestone Satellite
DESCRIPTION:PGT Texas PLO Roundup
URL:https://championsclubtexas.com/event/milestone-satellite-6/
CATEGORIES:Tournament
ATTACH;FMTTYPE=image/jpeg:https://championsclubtexas.com/wp-content/uploads/2024/11/image0.jpeg
END:VEVENT
BEGIN:VEVENT
DTSTART;TZID=America/Chicago:20241121T183000
DTEND;TZID=America/Chicago:20241121T183000
DTSTAMP:20260421T032550
CREATED:20241104T184036Z
LAST-MODIFIED:20241104T184036Z
UID:10000193-1732213800-1732213800@championsclubtexas.com
SUMMARY:Chess Night
DESCRIPTION:Room Promo
URL:https://championsclubtexas.com/event/chess-night-9/
CATEGORIES:Promo
ATTACH;FMTTYPE=image/png:https://championsclubtexas.com/wp-content/uploads/2024/11/Chess-Graphic_August_1200x1200_Social-Media-1.png
END:VEVENT
BEGIN:VEVENT
DTSTART;TZID=America/Chicago:20241121T190000
DTEND;TZID=America/Chicago:20241121T190000
DTSTAMP:20260421T032550
CREATED:20241104T184037Z
LAST-MODIFIED:20241104T184037Z
UID:10000194-1732215600-1732215600@championsclubtexas.com
SUMMARY:Turbo Super Satellite to Main Event
DESCRIPTION:PGT Texas PLO Roundup
URL:https://championsclubtexas.com/event/turbo-super-satellite-to-main-event-20/
CATEGORIES:Tournament
ATTACH;FMTTYPE=image/jpeg:https://championsclubtexas.com/wp-content/uploads/2024/11/image0.jpeg
END:VEVENT
BEGIN:VEVENT
DTSTART;TZID=America/Chicago:20241121T210000
DTEND;TZID=America/Chicago:20241121T210000
DTSTAMP:20260421T032550
CREATED:20241104T184236Z
LAST-MODIFIED:20241104T184236Z
UID:10000195-1732222800-1732222800@championsclubtexas.com
SUMMARY:Event 5B: PLO Main Event (Turbo)
DESCRIPTION:PGT Texas PLO Roundup
URL:https://championsclubtexas.com/event/event-5b-plo-main-event-turbo/
CATEGORIES:Tournament
ATTACH;FMTTYPE=image/jpeg:https://championsclubtexas.com/wp-content/uploads/2024/11/image0.jpeg
END:VEVENT
END:VCALENDAR