BEGIN:VCALENDAR
VERSION:2.0
PRODID:-//Champions Club Texas - ECPv6.15.18//NONSGML v1.0//EN
CALSCALE:GREGORIAN
METHOD:PUBLISH
X-WR-CALNAME:Champions Club Texas
X-ORIGINAL-URL:https://championsclubtexas.com
X-WR-CALDESC:Events for Champions Club Texas
REFRESH-INTERVAL;VALUE=DURATION:PT1H
X-Robots-Tag:noindex
X-PUBLISHED-TTL:PT1H
BEGIN:VTIMEZONE
TZID:America/Chicago
BEGIN:DAYLIGHT
TZOFFSETFROM:-0600
TZOFFSETTO:-0500
TZNAME:CDT
DTSTART:20230312T080000
END:DAYLIGHT
BEGIN:STANDARD
TZOFFSETFROM:-0500
TZOFFSETTO:-0600
TZNAME:CST
DTSTART:20231105T070000
END:STANDARD
BEGIN:DAYLIGHT
TZOFFSETFROM:-0600
TZOFFSETTO:-0500
TZNAME:CDT
DTSTART:20240310T080000
END:DAYLIGHT
BEGIN:STANDARD
TZOFFSETFROM:-0500
TZOFFSETTO:-0600
TZNAME:CST
DTSTART:20241103T070000
END:STANDARD
BEGIN:DAYLIGHT
TZOFFSETFROM:-0600
TZOFFSETTO:-0500
TZNAME:CDT
DTSTART:20250309T080000
END:DAYLIGHT
BEGIN:STANDARD
TZOFFSETFROM:-0500
TZOFFSETTO:-0600
TZNAME:CST
DTSTART:20251102T070000
END:STANDARD
END:VTIMEZONE
BEGIN:VEVENT
DTSTART;TZID=America/Chicago:20241122T110000
DTEND;TZID=America/Chicago:20241122T110000
DTSTAMP:20260421T052647
CREATED:20241104T184237Z
LAST-MODIFIED:20241104T184237Z
UID:10000196-1732273200-1732273200@championsclubtexas.com
SUMMARY:Turbo Super Satellite to Main Event
DESCRIPTION:PGT Texas PLO Roundup
URL:https://championsclubtexas.com/event/turbo-super-satellite-to-main-event-21/
CATEGORIES:Tournament
ATTACH;FMTTYPE=image/jpeg:https://championsclubtexas.com/wp-content/uploads/2024/11/image0.jpeg
END:VEVENT
BEGIN:VEVENT
DTSTART;TZID=America/Chicago:20241122T120000
DTEND;TZID=America/Chicago:20241122T120000
DTSTAMP:20260421T052647
CREATED:20241104T184238Z
LAST-MODIFIED:20241104T184238Z
UID:10000197-1732276800-1732276800@championsclubtexas.com
SUMMARY:Event 5C: PLO Main Event
DESCRIPTION:PGT Texas PLO Roundup
URL:https://championsclubtexas.com/event/event-5c-plo-main-event/
CATEGORIES:Tournament
ATTACH;FMTTYPE=image/jpeg:https://championsclubtexas.com/wp-content/uploads/2024/11/image0.jpeg
END:VEVENT
BEGIN:VEVENT
DTSTART;TZID=America/Chicago:20241122T130000
DTEND;TZID=America/Chicago:20241122T130000
DTSTAMP:20260421T052647
CREATED:20241104T184238Z
LAST-MODIFIED:20241104T184238Z
UID:10000198-1732280400-1732280400@championsclubtexas.com
SUMMARY:Milestone Satellite
DESCRIPTION:PGT Texas PLO Roundup
URL:https://championsclubtexas.com/event/milestone-satellite-7/
CATEGORIES:Tournament
ATTACH;FMTTYPE=image/jpeg:https://championsclubtexas.com/wp-content/uploads/2024/11/image0.jpeg
END:VEVENT
BEGIN:VEVENT
DTSTART;TZID=America/Chicago:20241122T180000
DTEND;TZID=America/Chicago:20241122T180000
DTSTAMP:20260421T052647
CREATED:20241104T184239Z
LAST-MODIFIED:20241104T184239Z
UID:10000199-1732298400-1732298400@championsclubtexas.com
SUMMARY:Event 6: PLO High Roller
DESCRIPTION:PGT Texas PLO Roundup
URL:https://championsclubtexas.com/event/event-6-plo-high-roller/
CATEGORIES:Tournament
ATTACH;FMTTYPE=image/jpeg:https://championsclubtexas.com/wp-content/uploads/2024/11/image0.jpeg
END:VEVENT
BEGIN:VEVENT
DTSTART;TZID=America/Chicago:20241122T190000
DTEND;TZID=America/Chicago:20241122T190000
DTSTAMP:20260421T052647
CREATED:20241104T184437Z
LAST-MODIFIED:20241104T184437Z
UID:10000200-1732302000-1732302000@championsclubtexas.com
SUMMARY:Turbo Super Satellite to Main Event
DESCRIPTION:PGT Texas PLO Roundup
URL:https://championsclubtexas.com/event/turbo-super-satellite-to-main-event-22/
CATEGORIES:Tournament
ATTACH;FMTTYPE=image/jpeg:https://championsclubtexas.com/wp-content/uploads/2024/11/image0.jpeg
END:VEVENT
BEGIN:VEVENT
DTSTART;TZID=America/Chicago:20241122T210000
DTEND;TZID=America/Chicago:20241122T210000
DTSTAMP:20260421T052647
CREATED:20241104T184438Z
LAST-MODIFIED:20241104T184438Z
UID:10000201-1732309200-1732309200@championsclubtexas.com
SUMMARY:Event 5D: PLO Main Event (Turbo)
DESCRIPTION:PGT Texas PLO Roundup
URL:https://championsclubtexas.com/event/event-5d-plo-main-event-turbo/
CATEGORIES:Tournament
ATTACH;FMTTYPE=image/jpeg:https://championsclubtexas.com/wp-content/uploads/2024/11/image0.jpeg
END:VEVENT
END:VCALENDAR