BEGIN:VCALENDAR
VERSION:2.0
PRODID:-//Champions Club Texas - ECPv6.15.18//NONSGML v1.0//EN
CALSCALE:GREGORIAN
METHOD:PUBLISH
X-ORIGINAL-URL:https://championsclubtexas.com
X-WR-CALDESC:Events for Champions Club Texas
REFRESH-INTERVAL;VALUE=DURATION:PT1H
X-Robots-Tag:noindex
X-PUBLISHED-TTL:PT1H
BEGIN:VTIMEZONE
TZID:America/Chicago
BEGIN:DAYLIGHT
TZOFFSETFROM:-0600
TZOFFSETTO:-0500
TZNAME:CDT
DTSTART:20230312T080000
END:DAYLIGHT
BEGIN:STANDARD
TZOFFSETFROM:-0500
TZOFFSETTO:-0600
TZNAME:CST
DTSTART:20231105T070000
END:STANDARD
BEGIN:DAYLIGHT
TZOFFSETFROM:-0600
TZOFFSETTO:-0500
TZNAME:CDT
DTSTART:20240310T080000
END:DAYLIGHT
BEGIN:STANDARD
TZOFFSETFROM:-0500
TZOFFSETTO:-0600
TZNAME:CST
DTSTART:20241103T070000
END:STANDARD
BEGIN:DAYLIGHT
TZOFFSETFROM:-0600
TZOFFSETTO:-0500
TZNAME:CDT
DTSTART:20250309T080000
END:DAYLIGHT
BEGIN:STANDARD
TZOFFSETFROM:-0500
TZOFFSETTO:-0600
TZNAME:CST
DTSTART:20251102T070000
END:STANDARD
END:VTIMEZONE
BEGIN:VEVENT
DTSTART;TZID=America/Chicago:20241124T080000
DTEND;TZID=America/Chicago:20241124T080000
DTSTAMP:20260421T130723
CREATED:20241104T184545Z
LAST-MODIFIED:20241104T184545Z
UID:10000207-1732435200-1732435200@championsclubtexas.com
SUMMARY:Event 5G: PLO Main Event (Turbo)
DESCRIPTION:PGT Texas PLO Roundup
URL:https://championsclubtexas.com/event/event-5g-plo-main-event-turbo/
CATEGORIES:Tournament
ATTACH;FMTTYPE=image/jpeg:https://championsclubtexas.com/wp-content/uploads/2024/11/image0.jpeg
END:VEVENT
BEGIN:VEVENT
DTSTART;TZID=America/Chicago:20241124T150000
DTEND;TZID=America/Chicago:20241124T150000
DTSTAMP:20260421T130723
CREATED:20241104T184545Z
LAST-MODIFIED:20241104T184545Z
UID:10000208-1732460400-1732460400@championsclubtexas.com
SUMMARY:Event 5: PLO Main Event Day 2
DESCRIPTION:PGT Texas PLO Roundup
URL:https://championsclubtexas.com/event/event-5-plo-main-event-day-2/
CATEGORIES:Tournament
ATTACH;FMTTYPE=image/jpeg:https://championsclubtexas.com/wp-content/uploads/2024/11/image0.jpeg
END:VEVENT
BEGIN:VEVENT
DTSTART;TZID=America/Chicago:20241124T180000
DTEND;TZID=America/Chicago:20241124T180000
DTSTAMP:20260421T130723
CREATED:20241104T184546Z
LAST-MODIFIED:20241104T184546Z
UID:10000209-1732471200-1732471200@championsclubtexas.com
SUMMARY:Event 8: PLO High Roller
DESCRIPTION:PGT Texas PLO Roundup
URL:https://championsclubtexas.com/event/event-8-plo-high-roller/
CATEGORIES:Tournament
ATTACH;FMTTYPE=image/jpeg:https://championsclubtexas.com/wp-content/uploads/2024/11/image0.jpeg
END:VEVENT
END:VCALENDAR