BEGIN:VCALENDAR
VERSION:2.0
PRODID:-//Champions Club Texas - ECPv6.15.18//NONSGML v1.0//EN
CALSCALE:GREGORIAN
METHOD:PUBLISH
X-WR-CALNAME:Champions Club Texas
X-ORIGINAL-URL:https://championsclubtexas.com
X-WR-CALDESC:Events for Champions Club Texas
REFRESH-INTERVAL;VALUE=DURATION:PT1H
X-Robots-Tag:noindex
X-PUBLISHED-TTL:PT1H
BEGIN:VTIMEZONE
TZID:America/Chicago
BEGIN:DAYLIGHT
TZOFFSETFROM:-0600
TZOFFSETTO:-0500
TZNAME:CDT
DTSTART:20230312T080000
END:DAYLIGHT
BEGIN:STANDARD
TZOFFSETFROM:-0500
TZOFFSETTO:-0600
TZNAME:CST
DTSTART:20231105T070000
END:STANDARD
BEGIN:DAYLIGHT
TZOFFSETFROM:-0600
TZOFFSETTO:-0500
TZNAME:CDT
DTSTART:20240310T080000
END:DAYLIGHT
BEGIN:STANDARD
TZOFFSETFROM:-0500
TZOFFSETTO:-0600
TZNAME:CST
DTSTART:20241103T070000
END:STANDARD
BEGIN:DAYLIGHT
TZOFFSETFROM:-0600
TZOFFSETTO:-0500
TZNAME:CDT
DTSTART:20250309T080000
END:DAYLIGHT
BEGIN:STANDARD
TZOFFSETFROM:-0500
TZOFFSETTO:-0600
TZNAME:CST
DTSTART:20251102T070000
END:STANDARD
END:VTIMEZONE
BEGIN:VEVENT
DTSTART;TZID=America/Chicago:20241125T120000
DTEND;TZID=America/Chicago:20241125T120000
DTSTAMP:20260421T062445
CREATED:20241104T184645Z
LAST-MODIFIED:20241104T184645Z
UID:10000210-1732536000-1732536000@championsclubtexas.com
SUMMARY:Event 9: 1 Day PLO
DESCRIPTION:PGT Texas PLO Roundup
URL:https://championsclubtexas.com/event/event-9-1-day-plo/
CATEGORIES:Tournament
ATTACH;FMTTYPE=image/jpeg:https://championsclubtexas.com/wp-content/uploads/2024/11/image0.jpeg
END:VEVENT
BEGIN:VEVENT
DTSTART;TZID=America/Chicago:20241125T150000
DTEND;TZID=America/Chicago:20241125T150000
DTSTAMP:20260421T062445
CREATED:20241104T184645Z
LAST-MODIFIED:20241104T184645Z
UID:10000211-1732546800-1732546800@championsclubtexas.com
SUMMARY:Event 5: PLO Main Event Final Table
DESCRIPTION:PGT Texas PLO Roundup
URL:https://championsclubtexas.com/event/event-5-plo-main-event-final-table/
CATEGORIES:Tournament
ATTACH;FMTTYPE=image/jpeg:https://championsclubtexas.com/wp-content/uploads/2024/11/image0.jpeg
END:VEVENT
END:VCALENDAR