BEGIN:VCALENDAR
VERSION:2.0
PRODID:-//Champions Club Texas - ECPv6.15.18//NONSGML v1.0//EN
CALSCALE:GREGORIAN
METHOD:PUBLISH
X-WR-CALNAME:Champions Club Texas
X-ORIGINAL-URL:https://championsclubtexas.com
X-WR-CALDESC:Events for Champions Club Texas
REFRESH-INTERVAL;VALUE=DURATION:PT1H
X-Robots-Tag:noindex
X-PUBLISHED-TTL:PT1H
BEGIN:VTIMEZONE
TZID:America/Chicago
BEGIN:DAYLIGHT
TZOFFSETFROM:-0600
TZOFFSETTO:-0500
TZNAME:CDT
DTSTART:20240310T080000
END:DAYLIGHT
BEGIN:STANDARD
TZOFFSETFROM:-0500
TZOFFSETTO:-0600
TZNAME:CST
DTSTART:20241103T070000
END:STANDARD
BEGIN:DAYLIGHT
TZOFFSETFROM:-0600
TZOFFSETTO:-0500
TZNAME:CDT
DTSTART:20250309T080000
END:DAYLIGHT
BEGIN:STANDARD
TZOFFSETFROM:-0500
TZOFFSETTO:-0600
TZNAME:CST
DTSTART:20251102T070000
END:STANDARD
BEGIN:DAYLIGHT
TZOFFSETFROM:-0600
TZOFFSETTO:-0500
TZNAME:CDT
DTSTART:20260308T080000
END:DAYLIGHT
BEGIN:STANDARD
TZOFFSETFROM:-0500
TZOFFSETTO:-0600
TZNAME:CST
DTSTART:20261101T070000
END:STANDARD
END:VTIMEZONE
BEGIN:VEVENT
DTSTART;TZID=America/Chicago:20250619T120000
DTEND;TZID=America/Chicago:20250619T120000
DTSTAMP:20260424T031810
CREATED:20250527T171000Z
LAST-MODIFIED:20250602T170812Z
UID:10000720-1750334400-1750334400@championsclubtexas.com
SUMMARY:Midday Madness $5K GTD
DESCRIPTION:Daily Tournament
URL:https://championsclubtexas.com/event/midday-madness-5k-gtd-54/
CATEGORIES:Tournament
ATTACH;FMTTYPE=image/jpeg:https://championsclubtexas.com/wp-content/uploads/2025/05/Midday_5K_4x5-1-3.jpg
END:VEVENT
BEGIN:VEVENT
DTSTART;TZID=America/Chicago:20250619T183000
DTEND;TZID=America/Chicago:20250619T183000
DTSTAMP:20260424T031810
CREATED:20250527T171001Z
LAST-MODIFIED:20250602T170812Z
UID:10000721-1750357800-1750357800@championsclubtexas.com
SUMMARY:Chess Night
DESCRIPTION:Daily Promo
URL:https://championsclubtexas.com/event/chess-night-34/
CATEGORIES:Promo
ATTACH;FMTTYPE=image/png:https://championsclubtexas.com/wp-content/uploads/2025/05/Chess-Night_1080x1350-3.png
END:VEVENT
BEGIN:VEVENT
DTSTART;TZID=America/Chicago:20250619T190000
DTEND;TZID=America/Chicago:20250619T190000
DTSTAMP:20260424T031810
CREATED:20250527T171001Z
LAST-MODIFIED:20250602T170813Z
UID:10000722-1750359600-1750359600@championsclubtexas.com
SUMMARY:PKO Bounty $5K GTD
DESCRIPTION:Daily Tournament
URL:https://championsclubtexas.com/event/pko-bounty-5k-gtd-3/
CATEGORIES:Tournament
ATTACH;FMTTYPE=image/jpeg:https://championsclubtexas.com/wp-content/uploads/2025/06/Thursday_PKO_4x5.jpg
END:VEVENT
END:VCALENDAR